BEGIN:VCALENDAR
VERSION:2.0
PRODID:-//ORI USA - ECPv5.14.1//NONSGML v1.0//EN
CALSCALE:GREGORIAN
METHOD:PUBLISH
X-WR-CALNAME:ORI USA
X-ORIGINAL-URL:https://www.oriusa.com
X-WR-CALDESC:Events for ORI USA
BEGIN:VTIMEZONE
TZID:America/New_York
BEGIN:DAYLIGHT
TZOFFSETFROM:-0500
TZOFFSETTO:-0400
TZNAME:EDT
DTSTART:20210314T070000
END:DAYLIGHT
BEGIN:STANDARD
TZOFFSETFROM:-0400
TZOFFSETTO:-0500
TZNAME:EST
DTSTART:20211107T060000
END:STANDARD
END:VTIMEZONE
BEGIN:VEVENT
DTSTART;VALUE=DATE:20211029
DTEND;VALUE=DATE:20211030
DTSTAMP:20260425T090110
CREATED:20211029T125758Z
LAST-MODIFIED:20211029T125817Z
UID:48425-1635465600-1635551999@www.oriusa.com
SUMMARY:Halloween Parties!
DESCRIPTION:
URL:https://www.oriusa.com/event/halloween-parties/
END:VEVENT
END:VCALENDAR